BEGIN:VCALENDAR
VERSION:2.0
PRODID:-//IceClasses.com Staging - ECPv6.15.20//NONSGML v1.0//EN
CALSCALE:GREGORIAN
METHOD:PUBLISH
X-WR-CALNAME:IceClasses.com Staging
X-ORIGINAL-URL:https://staging.iceclasses.com
X-WR-CALDESC:Events for IceClasses.com Staging
REFRESH-INTERVAL;VALUE=DURATION:PT1H
X-Robots-Tag:noindex
X-PUBLISHED-TTL:PT1H
BEGIN:VTIMEZONE
TZID:UTC
BEGIN:STANDARD
TZOFFSETFROM:+0000
TZOFFSETTO:+0000
TZNAME:UTC
DTSTART:20250101T000000
END:STANDARD
END:VTIMEZONE
BEGIN:VEVENT
DTSTART;TZID=UTC:20260328T080000
DTEND;TZID=UTC:20260328T143000
DTSTAMP:20260425T215103
CREATED:20260122T192121Z
LAST-MODIFIED:20260130T174233Z
UID:43791-1774684800-1774708200@staging.iceclasses.com
SUMMARY:Electrical Estimator Program
DESCRIPTION:
URL:https://staging.iceclasses.com/event/electrical-estimator-program/
CATEGORIES:Electrical
END:VEVENT
END:VCALENDAR