BEGIN:VCALENDAR
VERSION:2.0
PRODID:-//IceClasses.com Staging - ECPv6.15.20//NONSGML v1.0//EN
CALSCALE:GREGORIAN
METHOD:PUBLISH
X-WR-CALNAME:IceClasses.com Staging
X-ORIGINAL-URL:https://staging.iceclasses.com
X-WR-CALDESC:Events for IceClasses.com Staging
REFRESH-INTERVAL;VALUE=DURATION:PT1H
X-Robots-Tag:noindex
X-PUBLISHED-TTL:PT1H
BEGIN:VTIMEZONE
TZID:UTC
BEGIN:STANDARD
TZOFFSETFROM:+0000
TZOFFSETTO:+0000
TZNAME:UTC
DTSTART:20250101T000000
END:STANDARD
END:VTIMEZONE
BEGIN:VEVENT
DTSTART;TZID=UTC:20260516T080000
DTEND;TZID=UTC:20260516T090000
DTSTAMP:20260425T041615
CREATED:20260217T185408Z
LAST-MODIFIED:20260217T185408Z
UID:44163-1778918400-1778922000@staging.iceclasses.com
SUMMARY:HVACR – One Hour Course for Plumbers Only for the HVACR Renewal JUNE 2026 RENEWAL
DESCRIPTION:
URL:https://staging.iceclasses.com/event/hvacr-one-hour-course-for-plumbers-only-for-the-hvacr-renewal-june-2026-renewal-6/
CATEGORIES:Plumbers
END:VEVENT
END:VCALENDAR